﻿BEGIN:VCALENDAR
VERSION:2.0
PRODID:-//Substance Misuse Prevention - ECPv5.3.2.1//NONSGML v1.0//EN
CALSCALE:GREGORIAN
METHOD:PUBLISH
X-WR-CALNAME:Substance Misuse Prevention
X-ORIGINAL-URL:https://prevention.odp.idaho.gov
X-WR-CALDESC:Events for Substance Misuse Prevention
BEGIN:VTIMEZONE
TZID:America/Boise
BEGIN:DAYLIGHT
TZOFFSETFROM:-0700
TZOFFSETTO:-0600
TZNAME:MDT
DTSTART:20200308T090000
END:DAYLIGHT
BEGIN:STANDARD
TZOFFSETFROM:-0600
TZOFFSETTO:-0700
TZNAME:MST
DTSTART:20201101T080000
END:STANDARD
END:VTIMEZONE
BEGIN:VEVENT
DTSTART;TZID=America/Boise:20200124T083000
DTEND;TZID=America/Boise:20200124T133000
DTSTAMP:20210923T171224
CREATED:20200109T172644Z
LAST-MODIFIED:20200109T172644Z
UID:1643-1579854600-1579872600@prevention.odp.idaho.gov
SUMMARY:Drug Trends in the Schools
DESCRIPTION:
URL:https://prevention.odp.idaho.gov/event/drug-trends-in-the-schools/
LOCATION:Nampa Civic Center\, 311 3rd St.\, Nampa\, ID\, 83651\, United States
END:VEVENT
END:VCALENDAR