BEGIN:VCALENDAR
VERSION:2.0
PRODID:-//Substance Misuse Prevention - ECPv6.15.18//NONSGML v1.0//EN
CALSCALE:GREGORIAN
METHOD:PUBLISH
X-WR-CALNAME:Substance Misuse Prevention
X-ORIGINAL-URL:https://prevention.odp.idaho.gov
X-WR-CALDESC:Events for Substance Misuse Prevention
REFRESH-INTERVAL;VALUE=DURATION:PT1H
X-Robots-Tag:noindex
X-PUBLISHED-TTL:PT1H
BEGIN:VTIMEZONE
TZID:America/Boise
BEGIN:DAYLIGHT
TZOFFSETFROM:-0700
TZOFFSETTO:-0600
TZNAME:MDT
DTSTART:20200308T090000
END:DAYLIGHT
BEGIN:STANDARD
TZOFFSETFROM:-0600
TZOFFSETTO:-0700
TZNAME:MST
DTSTART:20201101T080000
END:STANDARD
BEGIN:DAYLIGHT
TZOFFSETFROM:-0700
TZOFFSETTO:-0600
TZNAME:MDT
DTSTART:20210314T090000
END:DAYLIGHT
BEGIN:STANDARD
TZOFFSETFROM:-0600
TZOFFSETTO:-0700
TZNAME:MST
DTSTART:20211107T080000
END:STANDARD
BEGIN:DAYLIGHT
TZOFFSETFROM:-0700
TZOFFSETTO:-0600
TZNAME:MDT
DTSTART:20220313T090000
END:DAYLIGHT
BEGIN:STANDARD
TZOFFSETFROM:-0600
TZOFFSETTO:-0700
TZNAME:MST
DTSTART:20221106T080000
END:STANDARD
END:VTIMEZONE
BEGIN:VEVENT
DTSTART;VALUE=DATE:20210524
DTEND;VALUE=DATE:20210528
DTSTAMP:20260425T214752
CREATED:20210326T185307Z
LAST-MODIFIED:20210326T185307Z
UID:2028-1621814400-1622159999@prevention.odp.idaho.gov
SUMMARY:2021 Idaho Conference on Alcohol and Drug Dependency
DESCRIPTION:The 2021 Idaho Conference on Alcohol and Drug Dependency (ICADD) will be held virtually on May 24-27. Earn prizes\, connect with colleagues\, and earn 24 continuing education hours! \nKeynote speakers include: \n\nDr. Jaime Brower\, Psy.D\, ABPP will present live on the topics “Morale & Resiliency\,” “Trauma in the Workplace\,” and “Communication/De-Escalation” (Tuesday\, May 25).\nEric Martin\, MAC\, CADC III\, PRC\, CPS will present live on “Contemporary Trends in Drug Use\, Addiction\, & Treatment” (Monday\, May 24)\, as well as a pre-recorded session on “Ethics: Sexual Violations & Sex-Positive Supervision.”\nRoy Huggins\, LPC\, NCC will present live on “Teletherapy Standards and Practice Refresher for Covid-19 and Beyond” (Monday\, May 24).\n\nLive sessions will be on-demand from Wed.\, May 26 – Tues.\, June 8. All other sessions will be on-demand from Mon.\, May 24 – Tues.\, June 8\, allowing attendees time to earn the full 24 CEUs. \nYour CE certificates will be sent to the email address you used to register with ICADD\, no later than June 22\, 2021. If you have not received your CE certificate by June 22\, 2021\, please email ICADD at info@attendicadd.com. \nIf you have any questions\, please email ICADD organizers at info@attendicadd.com or call 208-466-2519.
URL:https://prevention.odp.idaho.gov/event/2021-idaho-conference-on-alcohol-and-drug-dependency/
LOCATION:Virtual
END:VEVENT
END:VCALENDAR