BEGIN:VCALENDAR
VERSION:2.0
PRODID:-//Substance Misuse Prevention - ECPv6.15.18//NONSGML v1.0//EN
CALSCALE:GREGORIAN
METHOD:PUBLISH
X-WR-CALNAME:Substance Misuse Prevention
X-ORIGINAL-URL:https://prevention.odp.idaho.gov
X-WR-CALDESC:Events for Substance Misuse Prevention
REFRESH-INTERVAL;VALUE=DURATION:PT1H
X-Robots-Tag:noindex
X-PUBLISHED-TTL:PT1H
BEGIN:VTIMEZONE
TZID:America/Boise
BEGIN:DAYLIGHT
TZOFFSETFROM:-0700
TZOFFSETTO:-0600
TZNAME:MDT
DTSTART:20200308T090000
END:DAYLIGHT
BEGIN:STANDARD
TZOFFSETFROM:-0600
TZOFFSETTO:-0700
TZNAME:MST
DTSTART:20201101T080000
END:STANDARD
BEGIN:DAYLIGHT
TZOFFSETFROM:-0700
TZOFFSETTO:-0600
TZNAME:MDT
DTSTART:20210314T090000
END:DAYLIGHT
BEGIN:STANDARD
TZOFFSETFROM:-0600
TZOFFSETTO:-0700
TZNAME:MST
DTSTART:20211107T080000
END:STANDARD
BEGIN:DAYLIGHT
TZOFFSETFROM:-0700
TZOFFSETTO:-0600
TZNAME:MDT
DTSTART:20220313T090000
END:DAYLIGHT
BEGIN:STANDARD
TZOFFSETFROM:-0600
TZOFFSETTO:-0700
TZNAME:MST
DTSTART:20221106T080000
END:STANDARD
END:VTIMEZONE
BEGIN:VEVENT
DTSTART;TZID=America/Boise:20211004T080000
DTEND;TZID=America/Boise:20211005T170000
DTSTAMP:20260425T183925
CREATED:20210913T230332Z
LAST-MODIFIED:20210913T230332Z
UID:2337-1633334400-1633453200@prevention.odp.idaho.gov
SUMMARY:CCI Virtual Fall Prevention Conference
DESCRIPTION:Community Coalitions of Idaho’s Virtual Fall Prevention Conference | October 4th & 5th\, 2021\nWorkshops include: \n\nIllegal Marijuana Use in Teens\nVaping & Teens\nDrug & Alcohol Trends Education\nPublic Policy\, How to Work with Your State Legislators\n\nLearn more and get registered at www.communitycoalitionsofidaho.org/calendar-of-events
URL:https://prevention.odp.idaho.gov/event/cci-virtual-fall-prevention-conference/
LOCATION:Virtual
END:VEVENT
END:VCALENDAR