BEGIN:VCALENDAR
VERSION:2.0
PRODID:-//Substance Misuse Prevention - ECPv6.15.18//NONSGML v1.0//EN
CALSCALE:GREGORIAN
METHOD:PUBLISH
X-WR-CALNAME:Substance Misuse Prevention
X-ORIGINAL-URL:https://prevention.odp.idaho.gov
X-WR-CALDESC:Events for Substance Misuse Prevention
REFRESH-INTERVAL;VALUE=DURATION:PT1H
X-Robots-Tag:noindex
X-PUBLISHED-TTL:PT1H
BEGIN:VTIMEZONE
TZID:America/Boise
BEGIN:DAYLIGHT
TZOFFSETFROM:-0700
TZOFFSETTO:-0600
TZNAME:MDT
DTSTART:20200308T090000
END:DAYLIGHT
BEGIN:STANDARD
TZOFFSETFROM:-0600
TZOFFSETTO:-0700
TZNAME:MST
DTSTART:20201101T080000
END:STANDARD
BEGIN:DAYLIGHT
TZOFFSETFROM:-0700
TZOFFSETTO:-0600
TZNAME:MDT
DTSTART:20210314T090000
END:DAYLIGHT
BEGIN:STANDARD
TZOFFSETFROM:-0600
TZOFFSETTO:-0700
TZNAME:MST
DTSTART:20211107T080000
END:STANDARD
BEGIN:DAYLIGHT
TZOFFSETFROM:-0700
TZOFFSETTO:-0600
TZNAME:MDT
DTSTART:20220313T090000
END:DAYLIGHT
BEGIN:STANDARD
TZOFFSETFROM:-0600
TZOFFSETTO:-0700
TZNAME:MST
DTSTART:20221106T080000
END:STANDARD
END:VTIMEZONE
BEGIN:VEVENT
DTSTART;VALUE=DATE:20210803
DTEND;VALUE=DATE:20210806
DTSTAMP:20260425T134523
CREATED:20210326T185508Z
LAST-MODIFIED:20210326T185508Z
UID:2031-1627948800-1628207999@prevention.odp.idaho.gov
SUMMARY:Region 10 Opioid Summit | Alaska\, Idaho\, Oregon\, Washington
DESCRIPTION:The 2021 Summit will take place August 3 – 5\, 2021 in a virtual format! Check back mid-May for registration info! \nAbout the Summit\nThe Region 10 Opioid Summit is an opportunity for professionals from Alaska\, Idaho\, Oregon\, Washington\, Indian Nations\, urban Indian health programs\, and recognized American Indian organizations to meet and explore ways to address the opioid crisis. We invite you to attend the virtual summit! \nConference Schedule\nThe Opioid Summit will be held on Tuesday\, August 3 – Thursday\, August 5\, 2021 in a virtual format! The conference schedule will be available soon\, so stay tuned! Watch for an email announcement or visit the conference website for updates at region10opioidsummit.org. \nSponsors\nThe Region 10 Opioid Summit is brought to you by the State of Alaska Department of Health and Social Services\, Idaho Department of Health and Welfare Division of Behavioral Health\, Oregon Health Authority\, and the Washington State Health Care Authority Division of Behavioral Health and Recovery.
URL:https://prevention.odp.idaho.gov/event/region-10-opioid-summit-alaska-idaho-oregon-washington/
LOCATION:Virtual
END:VEVENT
BEGIN:VEVENT
DTSTART;TZID=America/Boise:20210812T080000
DTEND;TZID=America/Boise:20210813T160000
DTSTAMP:20260425T134523
CREATED:20210609T162327Z
LAST-MODIFIED:20210715T214914Z
UID:2141-1628755200-1628870400@prevention.odp.idaho.gov
SUMMARY:3rd Annual Prevention Training Institute
DESCRIPTION:Mark your calendars for the 3rd Annual Prevention Training Institute educating prevention professionals. Equip yourself with the knowledge\, skills\, and resources necessary to address underage substance use and implement prevention programming. \nWHAT: 3rd Annual Prevention Institute – Professional Development Training for Prevention Providers\, Certified Prevention Specialists\, Counselors\, Educators \nHOSTED BY: Boise State University Institute for the Study of Behavioral Health and Addiction & RADAR Center \nEVENT DATE: Thursday and Friday\, August 12th and 13th\, 2021 \nTIME: 9:00 AM – 4:00 PM \nLOCATION: This will be an in-person training at Boise State University \nCOST: Free \nLEARN MORE: https://odp.idaho.gov/3rd-annual-prevention-institute/ \nREGISTER AT: https://forms.gle/xzNZndeMFUjst2AH6 \nRegistration Deadline: August 7\, 2021 \nCertified Prevention Specialist credits and NBCC Continuing Education Hours available. \nTHURSDAY SESSIONS INCLUDE: \n\nRisk Factors for Alcohol Use and Web-Based Individual and Parent-Based Prevention Strategies(9 am – 12 noon). Dr. Diana Doumas and Dr. Robin Hausheer.  In this session\, participants will learn about individual and parent risk factors for adolescent alcohol use and low-cost\, easy to disseminate online prevention programming.  Maps to CPS Domain: Planning & Evaluation\nNeuro-Based Resiliency and Substance Use Prevention (1 pm – 4 pm). Dr. Raissa Miller and Dr. Michael Russo.  In this session\, participants will learn about neuroscience-informed frameworks of resilience and the relationship between resiliency and substance misuse prevention. Maps to CPS Domain: Professional Growth & Development\n\nFRIDAY SESSIONS INCLUDE: \n\nAdverse Childhood Experiences and Resiliency (9 am – 12 pm). Dr. Susan Esp.  In this session\, participants will learn about adverse childhood experiences\, resiliency\, and their relationship to the prevention of substance misuse. One hour of ethics training will also be included. Maps to CPS Domain: Professional Growth & Development/Ethics\nEthics in Prevention(1 pm – 4 pm). Leah Kalk. In this session\, participants will learn about ethical issues specific to prevention. Maps to CPS Domain: Professional Growth & Development/Ethics\n\nRegistration information will follow in July – the registration deadline will be August 7th
URL:https://prevention.odp.idaho.gov/event/3rd-annual-prevention-training-institute/
LOCATION:Boise State University
END:VEVENT
END:VCALENDAR