BEGIN:VCALENDAR
VERSION:2.0
PRODID:-//Substance Misuse Prevention - ECPv6.15.18//NONSGML v1.0//EN
CALSCALE:GREGORIAN
METHOD:PUBLISH
X-WR-CALNAME:Substance Misuse Prevention
X-ORIGINAL-URL:https://prevention.odp.idaho.gov
X-WR-CALDESC:Events for Substance Misuse Prevention
REFRESH-INTERVAL;VALUE=DURATION:PT1H
X-Robots-Tag:noindex
X-PUBLISHED-TTL:PT1H
BEGIN:VTIMEZONE
TZID:America/Boise
BEGIN:DAYLIGHT
TZOFFSETFROM:-0700
TZOFFSETTO:-0600
TZNAME:MDT
DTSTART:20210314T090000
END:DAYLIGHT
BEGIN:STANDARD
TZOFFSETFROM:-0600
TZOFFSETTO:-0700
TZNAME:MST
DTSTART:20211107T080000
END:STANDARD
BEGIN:DAYLIGHT
TZOFFSETFROM:-0700
TZOFFSETTO:-0600
TZNAME:MDT
DTSTART:20220313T090000
END:DAYLIGHT
BEGIN:STANDARD
TZOFFSETFROM:-0600
TZOFFSETTO:-0700
TZNAME:MST
DTSTART:20221106T080000
END:STANDARD
BEGIN:DAYLIGHT
TZOFFSETFROM:-0700
TZOFFSETTO:-0600
TZNAME:MDT
DTSTART:20230312T090000
END:DAYLIGHT
BEGIN:STANDARD
TZOFFSETFROM:-0600
TZOFFSETTO:-0700
TZNAME:MST
DTSTART:20231105T080000
END:STANDARD
END:VTIMEZONE
BEGIN:VEVENT
DTSTART;TZID=America/Boise:20220111T110000
DTEND;TZID=America/Boise:20220111T120000
DTSTAMP:20260425T064742
CREATED:20220104T190118Z
LAST-MODIFIED:20220104T191222Z
UID:2435-1641898800-1641902400@prevention.odp.idaho.gov
SUMMARY:PCSS Clinical Roundtable: Scope of the Fentanyl Crisis
DESCRIPTION:Topic: PCSS Clinical Roundtable – Dr. Edwin Salsitz – Scope of the Fentanyl Crisis \nDescription: This discussion is designed to promote interactivity through an informal “round table” conversation. Attendees will be given the opportunity to speak directly with the presenter to ask questions and discuss issues. \nIPCE Credit Available \nDate: January 11\, 2022 \nTime: 11:00am-12pm MST \nLearn more & register here. 
URL:https://prevention.odp.idaho.gov/event/pcss-clinical-roundtable-scope-of-the-fentanyl-crisis/
END:VEVENT
BEGIN:VEVENT
DTSTART;TZID=America/Boise:20220112T120000
DTEND;TZID=America/Boise:20220112T133000
DTSTAMP:20260425T064742
CREATED:20220104T004829Z
LAST-MODIFIED:20220104T005006Z
UID:2432-1641988800-1641994200@prevention.odp.idaho.gov
SUMMARY:Balancing Fidelity and Adaptation: Tools and Strategies for Successful Evidence-Based Program Implementation and Sustainability
DESCRIPTION:Webinar Description:\nThe adoption of an effective program is only the first step toward achieving the positive youth and family outcomes community-based organizations aim to achieve. Research has demonstrated time and time again that high-quality implementation and capacity to sustain evidence-based programs over time is critical to attaining improved youth and family outcomes. However\, there continues to be substantial debate about whether programs should be flexibly adapted to fit local contexts or delivered with strict fidelity to the original program model. Increasingly\, evidence from research and practice indicates that there must be a balance between the two to achieve positive and sustained program outcomes. This webinar will provide an overview of the latest research on the fidelity vs. adaptation debate and will share best practice tools and strategies for community organizations aiming to balance program fidelity and adaptation to meet the needs of their local communities. \nObjectives:\nBy the end of the webinar\, participants will: \n\nIncrease understanding of research on evidence-based prevention program fidelity\, adaptation\, and sustainability\nLearn four key ingredients for successful evidence-based prevention program sustainability\nLearn five best practices for how to balance evidence-based prevention program fidelity and adaptation to achieve positive and sustained program outcomes\n\nDate and Time:\nWednesday\, January 12\, 2022\n11:00 a.m. – 12:30 p.m. Pacific\n12:00 p.m. – 01:30 p.m. Mountain \nAudience:\nPrevention practitioners\, allied health partners and community members working to prevent substance misuse in tribes\, communities\, and states in HHS Region 10 (Alaska\, Idaho\, Oregon\, and Washington). \nLearn more and register here.
URL:https://prevention.odp.idaho.gov/event/balancing-fidelity-and-adaptation-tools-and-strategies-for-successful-evidence-based-program-implementation-and-sustainability/
END:VEVENT
BEGIN:VEVENT
DTSTART;TZID=America/Boise:20220120T130000
DTEND;TZID=America/Boise:20220120T143000
DTSTAMP:20260425T064742
CREATED:20211209T185940Z
LAST-MODIFIED:20211209T190233Z
UID:2400-1642683600-1642689000@prevention.odp.idaho.gov
SUMMARY:Enhanced Prevention Learning Series: Getting Ready for Sustainability Planning
DESCRIPTION:Description: \nThis seven-week distance learning series offers an interactive experience for participants to explore how to develop a sustainability plan. Sustainability planning is an intentional process of looking critically at your current prevention infrastructure\, strategic planning process\, and strategies to sustain meaningful prevention outcomes beyond current funding. Additional steps in sustainability planning include priority setting\, resource\, and feasibility analysis\, communication planning\, and resource and grant development. \nThe trainer will demonstrate how to use a set of tools to facilitate sustainability planning with community partners and will coach participants to set actionable steps and timelines to complete a plan over the next year. The distance learning series will include skill-based learning opportunities\, individual and group activities\, reading assignments\, and group discussions. \nDates & Times: \n\nJanuary 20\, 2022 – 1:00-2:30pm MST\nJanuary 27\, 2022 – 1:00-2:30pm MST\nFebruary 3\, 2022 – 1:00-2:30pm MST\nFebruary 10\, 2022 – 1:00-2:30pm MST\nFebruary 17\, 2022 – 1:00-2:30pm MST\nFebruary 24\, 2022 – 1:00-2:30pm MST\nMarch 3\, 2022 – 1:00-2:30pm MST\n\nLearn more and register here.
URL:https://prevention.odp.idaho.gov/event/enhanced-prevention-learning-series-getting-ready-for-sustainability-planning/
END:VEVENT
BEGIN:VEVENT
DTSTART;TZID=America/Boise:20220126T120000
DTEND;TZID=America/Boise:20220126T130000
DTSTAMP:20260425T064742
CREATED:20220125T183118Z
LAST-MODIFIED:20220125T183118Z
UID:2446-1643198400-1643202000@prevention.odp.idaho.gov
SUMMARY:Dialogue for Health Webinar Series: Media Influence
DESCRIPTION:Dialogue for Health: A Community Prevention Webinar Series\n\nAll webinars will start at 12pm MST\nRegistration – https://www.surveymonkey.com/r/G23PNYB. You can register for one or more of these topics at the same registration link.  Links to specific webinars will be sent once you have registered.\n\nThis series is brought to you by Drug and Alcohol Trends Education\, Cottonwood Police Department\, Idaho North Central Public Health\, and the Region 2 Behavioral Health Board through a Partnerships for Success Grant from the Idaho Office of Drug Policy. \n**POST Credit available through Cottonwood Police Department\, email Danielle D.A.TrendsProgram@gmail.com with your POST Roster info after EACH webinar you attend. ** \nJanuary 26\, 2022 – Media Influence\nYouth can be extremely impressionable\, especially by big-name influencers and brands.  Not all brands and influencers have a positive impact on youth though and promote delinquency and substance abuse.  It is also common to keep substance abuse on the down-low from those who oppose it. \nThis 1-hour webinar will discuss the current media influencers including clothing\, music\, and the lingo. \n\nAdditional Dialogue for Health Webinars\nFebruary 15\, 2022 – Illicit & Semi-Illicit Substances \nDrug abuse is constantly evolving and is extremely difficult for researchers and scientists to keep up with.  From plant-based substances to lab-created synthetics the world of substance abuse is massive. \nThis 1-hour webinar will cover newer substances of abuse and the possible effects and dangers they could pose to users and responders. \nMarch 15\, 2022 – Alcohol and Youth \nAlcohol has been around for generations and is one of the most widely abused substances by youth under 21.  The current trends around alcohol today are to be more potent\, flavorful\, and overall dangerous. \nThis 1-hour webinar will explain the most common ways alcohol is abused and how dangerous this abuse can truly be especially to the still-developing youth brain.  From binge drinking to alcopops\, to combining alcohol with other substances alcohol abuse continues to be a rising problem with youth. \nApril 19\, 2022 – Diversion Safes/Stash Containers \nThe methods of keeping use and abuse concealed from the public are constantly evolving and become increasingly discrete. \nThis 1-hour webinar will discuss varying types of stash containers and diversion safes. \nMay 17\, 2022 – First Responder Alerts
URL:https://prevention.odp.idaho.gov/event/dialogue-for-health-webinar-series-media-influence/
END:VEVENT
BEGIN:VEVENT
DTSTART;TZID=America/Boise:20220127T130000
DTEND;TZID=America/Boise:20220127T143000
DTSTAMP:20260425T064742
CREATED:20211209T185940Z
LAST-MODIFIED:20211209T190233Z
UID:2403-1643288400-1643293800@prevention.odp.idaho.gov
SUMMARY:Enhanced Prevention Learning Series: Getting Ready for Sustainability Planning
DESCRIPTION:Description: \nThis seven-week distance learning series offers an interactive experience for participants to explore how to develop a sustainability plan. Sustainability planning is an intentional process of looking critically at your current prevention infrastructure\, strategic planning process\, and strategies to sustain meaningful prevention outcomes beyond current funding. Additional steps in sustainability planning include priority setting\, resource\, and feasibility analysis\, communication planning\, and resource and grant development. \nThe trainer will demonstrate how to use a set of tools to facilitate sustainability planning with community partners and will coach participants to set actionable steps and timelines to complete a plan over the next year. The distance learning series will include skill-based learning opportunities\, individual and group activities\, reading assignments\, and group discussions. \nDates & Times: \n\nJanuary 20\, 2022 – 1:00-2:30pm MST\nJanuary 27\, 2022 – 1:00-2:30pm MST\nFebruary 3\, 2022 – 1:00-2:30pm MST\nFebruary 10\, 2022 – 1:00-2:30pm MST\nFebruary 17\, 2022 – 1:00-2:30pm MST\nFebruary 24\, 2022 – 1:00-2:30pm MST\nMarch 3\, 2022 – 1:00-2:30pm MST\n\nLearn more and register here.
URL:https://prevention.odp.idaho.gov/event/enhanced-prevention-learning-series-getting-ready-for-sustainability-planning-2022-01-27/
END:VEVENT
END:VCALENDAR