BEGIN:VCALENDAR
VERSION:2.0
PRODID:-//Substance Misuse Prevention - ECPv6.15.18//NONSGML v1.0//EN
CALSCALE:GREGORIAN
METHOD:PUBLISH
X-WR-CALNAME:Substance Misuse Prevention
X-ORIGINAL-URL:https://prevention.odp.idaho.gov
X-WR-CALDESC:Events for Substance Misuse Prevention
REFRESH-INTERVAL;VALUE=DURATION:PT1H
X-Robots-Tag:noindex
X-PUBLISHED-TTL:PT1H
BEGIN:VTIMEZONE
TZID:America/Boise
BEGIN:DAYLIGHT
TZOFFSETFROM:-0700
TZOFFSETTO:-0600
TZNAME:MDT
DTSTART:20210314T090000
END:DAYLIGHT
BEGIN:STANDARD
TZOFFSETFROM:-0600
TZOFFSETTO:-0700
TZNAME:MST
DTSTART:20211107T080000
END:STANDARD
BEGIN:DAYLIGHT
TZOFFSETFROM:-0700
TZOFFSETTO:-0600
TZNAME:MDT
DTSTART:20220313T090000
END:DAYLIGHT
BEGIN:STANDARD
TZOFFSETFROM:-0600
TZOFFSETTO:-0700
TZNAME:MST
DTSTART:20221106T080000
END:STANDARD
BEGIN:DAYLIGHT
TZOFFSETFROM:-0700
TZOFFSETTO:-0600
TZNAME:MDT
DTSTART:20230312T090000
END:DAYLIGHT
BEGIN:STANDARD
TZOFFSETFROM:-0600
TZOFFSETTO:-0700
TZNAME:MST
DTSTART:20231105T080000
END:STANDARD
END:VTIMEZONE
BEGIN:VEVENT
DTSTART;TZID=America/Boise:20220303T130000
DTEND;TZID=America/Boise:20220303T143000
DTSTAMP:20260425T154717
CREATED:20211209T185940Z
LAST-MODIFIED:20211209T190235Z
UID:2408-1646312400-1646317800@prevention.odp.idaho.gov
SUMMARY:Enhanced Prevention Learning Series: Getting Ready for Sustainability Planning
DESCRIPTION:Description: \nThis seven-week distance learning series offers an interactive experience for participants to explore how to develop a sustainability plan. Sustainability planning is an intentional process of looking critically at your current prevention infrastructure\, strategic planning process\, and strategies to sustain meaningful prevention outcomes beyond current funding. Additional steps in sustainability planning include priority setting\, resource\, and feasibility analysis\, communication planning\, and resource and grant development. \nThe trainer will demonstrate how to use a set of tools to facilitate sustainability planning with community partners and will coach participants to set actionable steps and timelines to complete a plan over the next year. The distance learning series will include skill-based learning opportunities\, individual and group activities\, reading assignments\, and group discussions. \nDates & Times: \n\nJanuary 20\, 2022 – 1:00-2:30pm MST\nJanuary 27\, 2022 – 1:00-2:30pm MST\nFebruary 3\, 2022 – 1:00-2:30pm MST\nFebruary 10\, 2022 – 1:00-2:30pm MST\nFebruary 17\, 2022 – 1:00-2:30pm MST\nFebruary 24\, 2022 – 1:00-2:30pm MST\nMarch 3\, 2022 – 1:00-2:30pm MST\n\nLearn more and register here.
URL:https://prevention.odp.idaho.gov/event/enhanced-prevention-learning-series-getting-ready-for-sustainability-planning-2022-03-03/
END:VEVENT
BEGIN:VEVENT
DTSTART;TZID=America/Boise:20220315T120000
DTEND;TZID=America/Boise:20220315T130000
DTSTAMP:20260425T154717
CREATED:20220125T183348Z
LAST-MODIFIED:20220125T183751Z
UID:2450-1647345600-1647349200@prevention.odp.idaho.gov
SUMMARY:Dialogue for Health: A Community Prevention Webinar Series
DESCRIPTION:Dialogue for Health: A Community Prevention Webinar Series\n\nAll webinars will start at 12pm MST\nRegistration – https://www.surveymonkey.com/r/G23PNYB. You can register for one or more of these topics at the same registration link.  Links to specific webinars will be sent once you have registered.\n\nThis series is brought to you by Drug and Alcohol Trends Education\, Cottonwood Police Department\, Idaho North Central Public Health\, and the Region 2 Behavioral Health Board through a Partnerships for Success Grant from the Idaho Office of Drug Policy. \n**POST Credit available through Cottonwood Police Department\, email Danielle D.A.TrendsProgram@gmail.com with your POST Roster info after EACH webinar you attend. ** \n\nFebruary 15\, 2022 – Illicit & Semi-Illicit Substances \nDrug abuse is constantly evolving and is extremely difficult for researchers and scientists to keep up with.  From plant-based substances to lab-created synthetics the world of substance abuse is massive. \nThis 1-hour webinar will cover newer substances of abuse and the possible effects and dangers they could pose to users and responders. \nMarch 15\, 2022 – Alcohol and Youth \nAlcohol has been around for generations and is one of the most widely abused substances by youth under 21.  The current trends around alcohol today are to be more potent\, flavorful\, and overall dangerous. \nThis 1-hour webinar will explain the most common ways alcohol is abused and how dangerous this abuse can truly be especially to the still-developing youth brain.  From binge drinking to alcopops\, to combining alcohol with other substances alcohol abuse continues to be a rising problem with youth. \nApril 19\, 2022 – Diversion Safes/Stash Containers \nThe methods of keeping use and abuse concealed from the public are constantly evolving and become increasingly discrete. \nThis 1-hour webinar will discuss varying types of stash containers and diversion safes. \nMay 17\, 2022 – First Responder Alerts
URL:https://prevention.odp.idaho.gov/event/dialogue-for-health-a-community-prevention-webinar-series-2022-03-15/
END:VEVENT
END:VCALENDAR